BEGIN:VCALENDAR
VERSION:2.0
PRODID:-//Bockumer Bürgerschützenverein e.V. 1912 - ECPv6.15.17.1//NONSGML v1.0//EN
CALSCALE:GREGORIAN
METHOD:PUBLISH
X-ORIGINAL-URL:https://www.bbsv1912.de
X-WR-CALDESC:Veranstaltungen für Bockumer Bürgerschützenverein e.V. 1912
REFRESH-INTERVAL;VALUE=DURATION:PT1H
X-Robots-Tag:noindex
X-PUBLISHED-TTL:PT1H
BEGIN:VTIMEZONE
TZID:Europe/Berlin
BEGIN:DAYLIGHT
TZOFFSETFROM:+0100
TZOFFSETTO:+0200
TZNAME:CEST
DTSTART:20250330T010000
END:DAYLIGHT
BEGIN:STANDARD
TZOFFSETFROM:+0200
TZOFFSETTO:+0100
TZNAME:CET
DTSTART:20251026T010000
END:STANDARD
BEGIN:DAYLIGHT
TZOFFSETFROM:+0100
TZOFFSETTO:+0200
TZNAME:CEST
DTSTART:20260329T010000
END:DAYLIGHT
BEGIN:STANDARD
TZOFFSETFROM:+0200
TZOFFSETTO:+0100
TZNAME:CET
DTSTART:20261025T010000
END:STANDARD
BEGIN:DAYLIGHT
TZOFFSETFROM:+0100
TZOFFSETTO:+0200
TZNAME:CEST
DTSTART:20270328T010000
END:DAYLIGHT
BEGIN:STANDARD
TZOFFSETFROM:+0200
TZOFFSETTO:+0100
TZNAME:CET
DTSTART:20271031T010000
END:STANDARD
END:VTIMEZONE
BEGIN:VEVENT
DTSTART;TZID=Europe/Berlin:20260425T180000
DTEND;TZID=Europe/Berlin:20260425T180000
DTSTAMP:20260424T062647
CREATED:20251217T105951Z
LAST-MODIFIED:20251217T105951Z
UID:5685-1777140000-1777140000@www.bbsv1912.de
SUMMARY:Vogeleinholen und -taufe
DESCRIPTION:
URL:https://www.bbsv1912.de/event/vogeleinholen-und-taufe-4/
LOCATION:NRW
END:VEVENT
BEGIN:VEVENT
DTSTART;TZID=Europe/Berlin:20260502T090000
DTEND;TZID=Europe/Berlin:20260502T090000
DTSTAMP:20260424T062647
CREATED:20251217T111617Z
LAST-MODIFIED:20251217T111617Z
UID:5715-1777712400-1777712400@www.bbsv1912.de
SUMMARY:Arbeitseinsatz
DESCRIPTION:
URL:https://www.bbsv1912.de/event/arbeitseinsatz-5/
LOCATION:NRW
END:VEVENT
BEGIN:VEVENT
DTSTART;TZID=Europe/Berlin:20260509T000000
DTEND;TZID=Europe/Berlin:20260509T000000
DTSTAMP:20260424T062647
CREATED:20251217T105951Z
LAST-MODIFIED:20251217T105951Z
UID:5686-1778284800-1778284800@www.bbsv1912.de
SUMMARY:Sommerfest Horst
DESCRIPTION:
URL:https://www.bbsv1912.de/event/sommerfest-horst-6/
LOCATION:Horst
END:VEVENT
BEGIN:VEVENT
DTSTART;TZID=Europe/Berlin:20260513T000000
DTEND;TZID=Europe/Berlin:20260513T000000
DTSTAMP:20260424T062647
CREATED:20251217T110006Z
LAST-MODIFIED:20251217T110006Z
UID:5687-1778630400-1778630400@www.bbsv1912.de
SUMMARY:Schützenfest Nordick
DESCRIPTION:
URL:https://www.bbsv1912.de/event/schuetzenfest-nordick-10/
LOCATION:NRW
END:VEVENT
BEGIN:VEVENT
DTSTART;VALUE=DATE:20260523
DTEND;VALUE=DATE:20260526
DTSTAMP:20260424T062647
CREATED:20251217T110006Z
LAST-MODIFIED:20251217T110413Z
UID:5688-1779494400-1779753599@www.bbsv1912.de
SUMMARY:Schützenfest Bockum
DESCRIPTION:
URL:https://www.bbsv1912.de/event/schuetzenfest-bockum-11/
LOCATION:Schützenplatz Bockum\, Horster Str. 227\, Hamm\, NRW\, 59075
END:VEVENT
BEGIN:VEVENT
DTSTART;TZID=Europe/Berlin:20260525T150000
DTEND;TZID=Europe/Berlin:20260525T150000
DTSTAMP:20260424T062647
CREATED:20251217T110006Z
LAST-MODIFIED:20251217T110006Z
UID:5689-1779721200-1779721200@www.bbsv1912.de
SUMMARY:Vereinsmeisterschaft
DESCRIPTION:
URL:https://www.bbsv1912.de/event/vereinsmeisterschaft-2/
LOCATION:Schützenhaus\, Horster Straße 227\, Hamm\, NRW\, 59075\, Deutschland
END:VEVENT
BEGIN:VEVENT
DTSTART;TZID=Europe/Berlin:20260606T090000
DTEND;TZID=Europe/Berlin:20260606T090000
DTSTAMP:20260424T062647
CREATED:20251217T111617Z
LAST-MODIFIED:20251217T111617Z
UID:5716-1780736400-1780736400@www.bbsv1912.de
SUMMARY:Arbeitseinsatz
DESCRIPTION:
URL:https://www.bbsv1912.de/event/arbeitseinsatz-6/
LOCATION:NRW
END:VEVENT
BEGIN:VEVENT
DTSTART;VALUE=DATE:20260619
DTEND;VALUE=DATE:20260622
DTSTAMP:20260424T062647
CREATED:20251217T110006Z
LAST-MODIFIED:20251217T110529Z
UID:5690-1781827200-1782086399@www.bbsv1912.de
SUMMARY:Schützenfest Hövel
DESCRIPTION:
URL:https://www.bbsv1912.de/event/schuetzenfest-hoevel-9/
LOCATION:NRW
END:VEVENT
BEGIN:VEVENT
DTSTART;TZID=Europe/Berlin:20260703T140000
DTEND;TZID=Europe/Berlin:20260703T140000
DTSTAMP:20260424T062647
CREATED:20251217T110006Z
LAST-MODIFIED:20251217T110006Z
UID:5691-1783087200-1783087200@www.bbsv1912.de
SUMMARY:Vater-Kind Zelten
DESCRIPTION:
URL:https://www.bbsv1912.de/event/vater-kind-zelten-5/
LOCATION:NRW
END:VEVENT
BEGIN:VEVENT
DTSTART;TZID=Europe/Berlin:20260704T000000
DTEND;TZID=Europe/Berlin:20260704T000000
DTSTAMP:20260424T062647
CREATED:20251217T110021Z
LAST-MODIFIED:20251217T110021Z
UID:5692-1783123200-1783123200@www.bbsv1912.de
SUMMARY:Hallohparkfest
DESCRIPTION:
URL:https://www.bbsv1912.de/event/hallohparkfest-8/
LOCATION:Hallohpark\, Helmut-Wehmeier-Weg\, Hamm\, 59075\, Deutschland
END:VEVENT
BEGIN:VEVENT
DTSTART;TZID=Europe/Berlin:20260704T090000
DTEND;TZID=Europe/Berlin:20260704T090000
DTSTAMP:20260424T062647
CREATED:20251217T111618Z
LAST-MODIFIED:20251217T111619Z
UID:5717-1783155600-1783155600@www.bbsv1912.de
SUMMARY:Arbeitseinsatz
DESCRIPTION:
URL:https://www.bbsv1912.de/event/arbeitseinsatz-7/
LOCATION:NRW
END:VEVENT
BEGIN:VEVENT
DTSTART;TZID=Europe/Berlin:20260711T150000
DTEND;TZID=Europe/Berlin:20260711T150000
DTSTAMP:20260424T062647
CREATED:20251217T110021Z
LAST-MODIFIED:20251217T110021Z
UID:5693-1783782000-1783782000@www.bbsv1912.de
SUMMARY:Kinderschützenfest Bockum
DESCRIPTION:
URL:https://www.bbsv1912.de/event/kinderschuetzenfest-bockum-4/
LOCATION:NRW
END:VEVENT
BEGIN:VEVENT
DTSTART;TZID=Europe/Berlin:20260801T090000
DTEND;TZID=Europe/Berlin:20260801T090000
DTSTAMP:20260424T062647
CREATED:20251217T111618Z
LAST-MODIFIED:20251217T111619Z
UID:5718-1785574800-1785574800@www.bbsv1912.de
SUMMARY:Arbeitseinsatz
DESCRIPTION:
URL:https://www.bbsv1912.de/event/arbeitseinsatz-8/
LOCATION:NRW
END:VEVENT
BEGIN:VEVENT
DTSTART;TZID=Europe/Berlin:20260806T080000
DTEND;TZID=Europe/Berlin:20260806T080000
DTSTAMP:20260424T062647
CREATED:20251217T110021Z
LAST-MODIFIED:20251217T110021Z
UID:5694-1786003200-1786003200@www.bbsv1912.de
SUMMARY:Seniorenfahrt
DESCRIPTION:
URL:https://www.bbsv1912.de/event/seniorenfahrt-6/
LOCATION:NRW
END:VEVENT
BEGIN:VEVENT
DTSTART;TZID=Europe/Berlin:20260829T000000
DTEND;TZID=Europe/Berlin:20260829T000000
DTSTAMP:20260424T062647
CREATED:20251217T110021Z
LAST-MODIFIED:20251217T110021Z
UID:5695-1787961600-1787961600@www.bbsv1912.de
SUMMARY:Vogelschießen SV Nordenfeldmark 1925
DESCRIPTION:
URL:https://www.bbsv1912.de/event/vogelschiessen-sv-nordenfeldmark-1925-5/
LOCATION:NRW
END:VEVENT
BEGIN:VEVENT
DTSTART;TZID=Europe/Berlin:20260905T090000
DTEND;TZID=Europe/Berlin:20260905T090000
DTSTAMP:20260424T062647
CREATED:20251217T111618Z
LAST-MODIFIED:20251217T111619Z
UID:5719-1788598800-1788598800@www.bbsv1912.de
SUMMARY:Arbeitseinsatz
DESCRIPTION:
URL:https://www.bbsv1912.de/event/arbeitseinsatz-9/
LOCATION:NRW
END:VEVENT
BEGIN:VEVENT
DTSTART;TZID=Europe/Berlin:20260905T170000
DTEND;TZID=Europe/Berlin:20260905T170000
DTSTAMP:20260424T062647
CREATED:20251217T110021Z
LAST-MODIFIED:20251217T110021Z
UID:5696-1788627600-1788627600@www.bbsv1912.de
SUMMARY:AVG-Schützenfest
DESCRIPTION:
URL:https://www.bbsv1912.de/event/avg-schuetzenfest-4/
LOCATION:NRW
END:VEVENT
BEGIN:VEVENT
DTSTART;TZID=Europe/Berlin:20261003T090000
DTEND;TZID=Europe/Berlin:20261003T090000
DTSTAMP:20260424T062647
CREATED:20251217T111618Z
LAST-MODIFIED:20251217T111619Z
UID:5720-1791018000-1791018000@www.bbsv1912.de
SUMMARY:Arbeitseinsatz
DESCRIPTION:
URL:https://www.bbsv1912.de/event/arbeitseinsatz-10/
LOCATION:NRW
END:VEVENT
BEGIN:VEVENT
DTSTART;TZID=Europe/Berlin:20261010T180000
DTEND;TZID=Europe/Berlin:20261010T180000
DTSTAMP:20260424T062647
CREATED:20251217T110036Z
LAST-MODIFIED:20251217T110036Z
UID:5697-1791655200-1791655200@www.bbsv1912.de
SUMMARY:Oktoberfest
DESCRIPTION:
URL:https://www.bbsv1912.de/event/oktoberfest-3/
LOCATION:Schützenhaus\, Horster Straße 227\, Hamm\, NRW\, 59075\, Deutschland
END:VEVENT
BEGIN:VEVENT
DTSTART;TZID=Europe/Berlin:20261015T153000
DTEND;TZID=Europe/Berlin:20261015T153000
DTSTAMP:20260424T062647
CREATED:20251217T110036Z
LAST-MODIFIED:20251217T110036Z
UID:5698-1792078200-1792078200@www.bbsv1912.de
SUMMARY:Seniorenkaffee
DESCRIPTION:
URL:https://www.bbsv1912.de/event/seniorenkaffee-4/
LOCATION:Schützenhaus\, Horster Straße 227\, Hamm\, NRW\, 59075\, Deutschland
END:VEVENT
BEGIN:VEVENT
DTSTART;TZID=Europe/Berlin:20261107T090000
DTEND;TZID=Europe/Berlin:20261107T090000
DTSTAMP:20260424T062647
CREATED:20251217T111618Z
LAST-MODIFIED:20251217T111619Z
UID:5721-1794042000-1794042000@www.bbsv1912.de
SUMMARY:Arbeitseinsatz
DESCRIPTION:
URL:https://www.bbsv1912.de/event/arbeitseinsatz-11/
LOCATION:NRW
END:VEVENT
BEGIN:VEVENT
DTSTART;TZID=Europe/Berlin:20261107T180000
DTEND;TZID=Europe/Berlin:20261107T180000
DTSTAMP:20260424T062647
CREATED:20251217T110036Z
LAST-MODIFIED:20251217T110036Z
UID:5699-1794074400-1794074400@www.bbsv1912.de
SUMMARY:RiTiKi-Turnier
DESCRIPTION:
URL:https://www.bbsv1912.de/event/ritiki-turnier-5/
LOCATION:Schützenhaus\, Horster Straße 227\, Hamm\, NRW\, 59075\, Deutschland
END:VEVENT
BEGIN:VEVENT
DTSTART;TZID=Europe/Berlin:20261115T110000
DTEND;TZID=Europe/Berlin:20261115T110000
DTSTAMP:20260424T062647
CREATED:20251217T110036Z
LAST-MODIFIED:20251217T110036Z
UID:5700-1794740400-1794740400@www.bbsv1912.de
SUMMARY:Volkstrauertag
DESCRIPTION:
URL:https://www.bbsv1912.de/event/volkstrauertag-8/
LOCATION:NRW
END:VEVENT
BEGIN:VEVENT
DTSTART;TZID=Europe/Berlin:20261129T120000
DTEND;TZID=Europe/Berlin:20261129T120000
DTSTAMP:20260424T062647
CREATED:20251217T110036Z
LAST-MODIFIED:20251217T110036Z
UID:5701-1795953600-1795953600@www.bbsv1912.de
SUMMARY:Stephanusmarkt
DESCRIPTION:
URL:https://www.bbsv1912.de/event/stephanusmarkt-8/
LOCATION:NRW
END:VEVENT
END:VCALENDAR